BEGIN:VCALENDAR
VERSION:2.0
PRODID:-//Forsthaus Neuhaus - ECPv6.15.20//NONSGML v1.0//EN
CALSCALE:GREGORIAN
METHOD:PUBLISH
X-WR-CALNAME:Forsthaus Neuhaus
X-ORIGINAL-URL:https://forsthausneuhaus.de
X-WR-CALDESC:Veranstaltungen für Forsthaus Neuhaus
REFRESH-INTERVAL;VALUE=DURATION:PT1H
X-Robots-Tag:noindex
X-PUBLISHED-TTL:PT1H
BEGIN:VTIMEZONE
TZID:Europe/Berlin
BEGIN:DAYLIGHT
TZOFFSETFROM:+0100
TZOFFSETTO:+0200
TZNAME:CEST
DTSTART:20250330T010000
END:DAYLIGHT
BEGIN:STANDARD
TZOFFSETFROM:+0200
TZOFFSETTO:+0100
TZNAME:CET
DTSTART:20251026T010000
END:STANDARD
BEGIN:DAYLIGHT
TZOFFSETFROM:+0100
TZOFFSETTO:+0200
TZNAME:CEST
DTSTART:20260329T010000
END:DAYLIGHT
BEGIN:STANDARD
TZOFFSETFROM:+0200
TZOFFSETTO:+0100
TZNAME:CET
DTSTART:20261025T010000
END:STANDARD
BEGIN:DAYLIGHT
TZOFFSETFROM:+0100
TZOFFSETTO:+0200
TZNAME:CEST
DTSTART:20270328T010000
END:DAYLIGHT
BEGIN:STANDARD
TZOFFSETFROM:+0200
TZOFFSETTO:+0100
TZNAME:CET
DTSTART:20271031T010000
END:STANDARD
END:VTIMEZONE
BEGIN:VEVENT
DTSTART;VALUE=DATE:20260516
DTEND;VALUE=DATE:20260517
DTSTAMP:20260420T043918
CREATED:20260110T202310Z
LAST-MODIFIED:20260110T202310Z
UID:3415-1778889600-1778975999@forsthausneuhaus.de
SUMMARY:geschlossene Gesellschaft
DESCRIPTION:
URL:https://forsthausneuhaus.de/veranstaltung/geschlossene-gesellschaft-140/
CATEGORIES:Hochzeit
END:VEVENT
BEGIN:VEVENT
DTSTART;VALUE=DATE:20260523
DTEND;VALUE=DATE:20260524
DTSTAMP:20260420T043918
CREATED:20260110T202310Z
LAST-MODIFIED:20260110T202310Z
UID:3416-1779494400-1779580799@forsthausneuhaus.de
SUMMARY:geschlossene Gesellschaft
DESCRIPTION:
URL:https://forsthausneuhaus.de/veranstaltung/geschlossene-gesellschaft-139/
CATEGORIES:Hochzeit
END:VEVENT
BEGIN:VEVENT
DTSTART;VALUE=DATE:20260524
DTEND;VALUE=DATE:20260525
DTSTAMP:20260420T043918
CREATED:20260110T202310Z
LAST-MODIFIED:20260110T202310Z
UID:3417-1779580800-1779667199@forsthausneuhaus.de
SUMMARY:geschlossene Gesellschaft
DESCRIPTION:
URL:https://forsthausneuhaus.de/veranstaltung/geschlossene-gesellschaft-138/
CATEGORIES:Hochzeit
END:VEVENT
BEGIN:VEVENT
DTSTART;VALUE=DATE:20260525
DTEND;VALUE=DATE:20260526
DTSTAMP:20260420T043918
CREATED:20260110T202310Z
LAST-MODIFIED:20260110T202310Z
UID:3418-1779667200-1779753599@forsthausneuhaus.de
SUMMARY:geschlossene Gesellschaft
DESCRIPTION:
URL:https://forsthausneuhaus.de/veranstaltung/geschlossene-gesellschaft-137/
CATEGORIES:Hochzeit
END:VEVENT
BEGIN:VEVENT
DTSTART;VALUE=DATE:20260530
DTEND;VALUE=DATE:20260531
DTSTAMP:20260420T043918
CREATED:20260110T202309Z
LAST-MODIFIED:20260110T202309Z
UID:3419-1780099200-1780185599@forsthausneuhaus.de
SUMMARY:geschlossene Gesellschaft
DESCRIPTION:
URL:https://forsthausneuhaus.de/veranstaltung/geschlossene-gesellschaft-136/
CATEGORIES:Hochzeit
END:VEVENT
BEGIN:VEVENT
DTSTART;VALUE=DATE:20260605
DTEND;VALUE=DATE:20260606
DTSTAMP:20260420T043918
CREATED:20260110T202309Z
LAST-MODIFIED:20260110T202309Z
UID:3420-1780617600-1780703999@forsthausneuhaus.de
SUMMARY:geschlossene Gesellschaft
DESCRIPTION:
URL:https://forsthausneuhaus.de/veranstaltung/geschlossene-gesellschaft-135/
CATEGORIES:Hochzeit
END:VEVENT
BEGIN:VEVENT
DTSTART;VALUE=DATE:20260606
DTEND;VALUE=DATE:20260607
DTSTAMP:20260420T043918
CREATED:20260110T202309Z
LAST-MODIFIED:20260110T202309Z
UID:3421-1780704000-1780790399@forsthausneuhaus.de
SUMMARY:geschlossene Gesellschaft
DESCRIPTION:
URL:https://forsthausneuhaus.de/veranstaltung/geschlossene-gesellschaft-134/
CATEGORIES:Hochzeit
END:VEVENT
BEGIN:VEVENT
DTSTART;VALUE=DATE:20260612
DTEND;VALUE=DATE:20260613
DTSTAMP:20260420T043918
CREATED:20260110T202309Z
LAST-MODIFIED:20260110T202309Z
UID:3422-1781222400-1781308799@forsthausneuhaus.de
SUMMARY:geschlossene Gesellschaft
DESCRIPTION:
URL:https://forsthausneuhaus.de/veranstaltung/geschlossene-gesellschaft-133/
CATEGORIES:Hochzeit
END:VEVENT
BEGIN:VEVENT
DTSTART;VALUE=DATE:20260613
DTEND;VALUE=DATE:20260614
DTSTAMP:20260420T043918
CREATED:20260110T202308Z
LAST-MODIFIED:20260110T202308Z
UID:3423-1781308800-1781395199@forsthausneuhaus.de
SUMMARY:geschlossene Gesellschaft
DESCRIPTION:
URL:https://forsthausneuhaus.de/veranstaltung/geschlossene-gesellschaft-132/
CATEGORIES:Hochzeit
END:VEVENT
BEGIN:VEVENT
DTSTART;VALUE=DATE:20260620
DTEND;VALUE=DATE:20260621
DTSTAMP:20260420T043918
CREATED:20260110T202308Z
LAST-MODIFIED:20260110T202308Z
UID:3424-1781913600-1781999999@forsthausneuhaus.de
SUMMARY:geschlossene Gesellschaft
DESCRIPTION:
URL:https://forsthausneuhaus.de/veranstaltung/geschlossene-gesellschaft-131/
CATEGORIES:Hochzeit
END:VEVENT
BEGIN:VEVENT
DTSTART;VALUE=DATE:20260627
DTEND;VALUE=DATE:20260628
DTSTAMP:20260420T043918
CREATED:20260110T202308Z
LAST-MODIFIED:20260110T202308Z
UID:3425-1782518400-1782604799@forsthausneuhaus.de
SUMMARY:geschlossene Gesellschaft
DESCRIPTION:
URL:https://forsthausneuhaus.de/veranstaltung/geschlossene-gesellschaft-130/
CATEGORIES:Hochzeit
END:VEVENT
BEGIN:VEVENT
DTSTART;VALUE=DATE:20260704
DTEND;VALUE=DATE:20260705
DTSTAMP:20260420T043918
CREATED:20260110T202308Z
LAST-MODIFIED:20260110T202308Z
UID:3426-1783123200-1783209599@forsthausneuhaus.de
SUMMARY:geschlossene Gesellschaft
DESCRIPTION:
URL:https://forsthausneuhaus.de/veranstaltung/geschlossene-gesellschaft-129/
CATEGORIES:Hochzeit
END:VEVENT
BEGIN:VEVENT
DTSTART;VALUE=DATE:20260711
DTEND;VALUE=DATE:20260712
DTSTAMP:20260420T043918
CREATED:20260110T202307Z
LAST-MODIFIED:20260110T202307Z
UID:3427-1783728000-1783814399@forsthausneuhaus.de
SUMMARY:geschlossene Gesellschaft
DESCRIPTION:
URL:https://forsthausneuhaus.de/veranstaltung/geschlossene-gesellschaft-128/
CATEGORIES:Hochzeit
END:VEVENT
BEGIN:VEVENT
DTSTART;VALUE=DATE:20260718
DTEND;VALUE=DATE:20260719
DTSTAMP:20260420T043918
CREATED:20260110T202307Z
LAST-MODIFIED:20260110T202307Z
UID:3428-1784332800-1784419199@forsthausneuhaus.de
SUMMARY:geschlossene Gesellschaft
DESCRIPTION:
URL:https://forsthausneuhaus.de/veranstaltung/geschlossene-gesellschaft-127/
CATEGORIES:Hochzeit
END:VEVENT
BEGIN:VEVENT
DTSTART;VALUE=DATE:20260725
DTEND;VALUE=DATE:20260726
DTSTAMP:20260420T043918
CREATED:20260110T202307Z
LAST-MODIFIED:20260110T202307Z
UID:3429-1784937600-1785023999@forsthausneuhaus.de
SUMMARY:geschlossene Gesellschaft
DESCRIPTION:
URL:https://forsthausneuhaus.de/veranstaltung/geschlossene-gesellschaft-126/
CATEGORIES:Hochzeit
END:VEVENT
BEGIN:VEVENT
DTSTART;VALUE=DATE:20260801
DTEND;VALUE=DATE:20260802
DTSTAMP:20260420T043918
CREATED:20260110T202307Z
LAST-MODIFIED:20260110T202307Z
UID:3430-1785542400-1785628799@forsthausneuhaus.de
SUMMARY:geschlossene Gesellschaft
DESCRIPTION:
URL:https://forsthausneuhaus.de/veranstaltung/geschlossene-gesellschaft-125/
CATEGORIES:Hochzeit
END:VEVENT
BEGIN:VEVENT
DTSTART;VALUE=DATE:20260808
DTEND;VALUE=DATE:20260809
DTSTAMP:20260420T043918
CREATED:20260110T202306Z
LAST-MODIFIED:20260110T202306Z
UID:3431-1786147200-1786233599@forsthausneuhaus.de
SUMMARY:geschlossene Gesellschaft
DESCRIPTION:
URL:https://forsthausneuhaus.de/veranstaltung/geschlossene-gesellschaft-124/
CATEGORIES:Hochzeit
END:VEVENT
BEGIN:VEVENT
DTSTART;VALUE=DATE:20260815
DTEND;VALUE=DATE:20260816
DTSTAMP:20260420T043918
CREATED:20260110T202306Z
LAST-MODIFIED:20260110T202306Z
UID:3432-1786752000-1786838399@forsthausneuhaus.de
SUMMARY:geschlossene Gesellschaft
DESCRIPTION:
URL:https://forsthausneuhaus.de/veranstaltung/geschlossene-gesellschaft-123/
CATEGORIES:Hochzeit
END:VEVENT
BEGIN:VEVENT
DTSTART;VALUE=DATE:20260822
DTEND;VALUE=DATE:20260823
DTSTAMP:20260420T043918
CREATED:20260110T202306Z
LAST-MODIFIED:20260110T202306Z
UID:3433-1787356800-1787443199@forsthausneuhaus.de
SUMMARY:geschlossene Gesellschaft
DESCRIPTION:
URL:https://forsthausneuhaus.de/veranstaltung/geschlossene-gesellschaft-122/
CATEGORIES:Hochzeit
END:VEVENT
BEGIN:VEVENT
DTSTART;VALUE=DATE:20260828
DTEND;VALUE=DATE:20260829
DTSTAMP:20260420T043918
CREATED:20260110T202306Z
LAST-MODIFIED:20260110T202306Z
UID:3434-1787875200-1787961599@forsthausneuhaus.de
SUMMARY:geschlossene Gesellschaft
DESCRIPTION:
URL:https://forsthausneuhaus.de/veranstaltung/geschlossene-gesellschaft-93/
CATEGORIES:Hochzeit
END:VEVENT
BEGIN:VEVENT
DTSTART;VALUE=DATE:20260829
DTEND;VALUE=DATE:20260830
DTSTAMP:20260420T043918
CREATED:20260110T202305Z
LAST-MODIFIED:20260110T202305Z
UID:3435-1787961600-1788047999@forsthausneuhaus.de
SUMMARY:geschlossene Gesellschaft
DESCRIPTION:
URL:https://forsthausneuhaus.de/veranstaltung/geschlossene-gesellschaft-92/
CATEGORIES:Hochzeit
END:VEVENT
BEGIN:VEVENT
DTSTART;VALUE=DATE:20260904
DTEND;VALUE=DATE:20260905
DTSTAMP:20260420T043918
CREATED:20260121T083157Z
LAST-MODIFIED:20260121T083157Z
UID:3505-1788480000-1788566399@forsthausneuhaus.de
SUMMARY:Geschlossene Gesellschaft
DESCRIPTION:
URL:https://forsthausneuhaus.de/veranstaltung/geschlossene-gesellschaft-4/
LOCATION:Forsthaus
END:VEVENT
BEGIN:VEVENT
DTSTART;VALUE=DATE:20260905
DTEND;VALUE=DATE:20260906
DTSTAMP:20260420T043918
CREATED:20260110T202305Z
LAST-MODIFIED:20260110T202305Z
UID:3436-1788566400-1788652799@forsthausneuhaus.de
SUMMARY:geschlossene Gesellschaft
DESCRIPTION:
URL:https://forsthausneuhaus.de/veranstaltung/geschlossene-gesellschaft-91/
CATEGORIES:Hochzeit
END:VEVENT
BEGIN:VEVENT
DTSTART;VALUE=DATE:20260906
DTEND;VALUE=DATE:20260907
DTSTAMP:20260420T043918
CREATED:20260110T202305Z
LAST-MODIFIED:20260110T202305Z
UID:3437-1788652800-1788739199@forsthausneuhaus.de
SUMMARY:geschlossene Gesellschaft
DESCRIPTION:
URL:https://forsthausneuhaus.de/veranstaltung/geschlossene-gesellschaft-90/
CATEGORIES:Hochzeit
END:VEVENT
BEGIN:VEVENT
DTSTART;VALUE=DATE:20260912
DTEND;VALUE=DATE:20260913
DTSTAMP:20260420T043918
CREATED:20260110T202305Z
LAST-MODIFIED:20260110T202305Z
UID:3438-1789171200-1789257599@forsthausneuhaus.de
SUMMARY:geschlossene Gesellschaft
DESCRIPTION:
URL:https://forsthausneuhaus.de/veranstaltung/geschlossene-gesellschaft-85/
CATEGORIES:Hochzeit
END:VEVENT
BEGIN:VEVENT
DTSTART;VALUE=DATE:20260919
DTEND;VALUE=DATE:20260920
DTSTAMP:20260420T043918
CREATED:20260110T202304Z
LAST-MODIFIED:20260110T202304Z
UID:3439-1789776000-1789862399@forsthausneuhaus.de
SUMMARY:geschlossene Gesellschaft
DESCRIPTION:
URL:https://forsthausneuhaus.de/veranstaltung/geschlossene-gesellschaft-80/
CATEGORIES:Hochzeit
END:VEVENT
BEGIN:VEVENT
DTSTART;VALUE=DATE:20260926
DTEND;VALUE=DATE:20260927
DTSTAMP:20260420T043918
CREATED:20260110T202304Z
LAST-MODIFIED:20260110T202304Z
UID:3440-1790380800-1790467199@forsthausneuhaus.de
SUMMARY:geschlossene Gesellschaft
DESCRIPTION:
URL:https://forsthausneuhaus.de/veranstaltung/geschlossene-gesellschaft-79/
CATEGORIES:Hochzeit
END:VEVENT
BEGIN:VEVENT
DTSTART;VALUE=DATE:20261003
DTEND;VALUE=DATE:20261004
DTSTAMP:20260420T043918
CREATED:20260110T202304Z
LAST-MODIFIED:20260110T202304Z
UID:3441-1790985600-1791071999@forsthausneuhaus.de
SUMMARY:geschlossene Gesellschaft
DESCRIPTION:
URL:https://forsthausneuhaus.de/veranstaltung/geschlossene-gesellschaft-74/
CATEGORIES:Hochzeit
END:VEVENT
BEGIN:VEVENT
DTSTART;VALUE=DATE:20261010
DTEND;VALUE=DATE:20261011
DTSTAMP:20260420T043918
CREATED:20260110T202304Z
LAST-MODIFIED:20260110T202304Z
UID:3442-1791590400-1791676799@forsthausneuhaus.de
SUMMARY:geschlossene Gesellschaft
DESCRIPTION:
URL:https://forsthausneuhaus.de/veranstaltung/geschlossene-gesellschaft-70/
CATEGORIES:Hochzeit
END:VEVENT
BEGIN:VEVENT
DTSTART;VALUE=DATE:20261024
DTEND;VALUE=DATE:20261025
DTSTAMP:20260420T043918
CREATED:20260110T202304Z
LAST-MODIFIED:20260110T202304Z
UID:3443-1792800000-1792886399@forsthausneuhaus.de
SUMMARY:geschlossene Gesellschaft
DESCRIPTION:
URL:https://forsthausneuhaus.de/veranstaltung/geschlossene-gesellschaft-51/
CATEGORIES:Hochzeit
END:VEVENT
END:VCALENDAR